BEGIN:VCALENDAR
VERSION:2.0
PRODID:-//ASIFA-East - ECPv6.15.20//NONSGML v1.0//EN
CALSCALE:GREGORIAN
METHOD:PUBLISH
X-ORIGINAL-URL:https://asifaeast.com
X-WR-CALDESC:Events for ASIFA-East
REFRESH-INTERVAL;VALUE=DURATION:PT1H
X-Robots-Tag:noindex
X-PUBLISHED-TTL:PT1H
BEGIN:VTIMEZONE
TZID:America/New_York
BEGIN:DAYLIGHT
TZOFFSETFROM:-0500
TZOFFSETTO:-0400
TZNAME:EDT
DTSTART:20160313T070000
END:DAYLIGHT
BEGIN:STANDARD
TZOFFSETFROM:-0400
TZOFFSETTO:-0500
TZNAME:EST
DTSTART:20161106T060000
END:STANDARD
BEGIN:DAYLIGHT
TZOFFSETFROM:-0500
TZOFFSETTO:-0400
TZNAME:EDT
DTSTART:20170312T070000
END:DAYLIGHT
BEGIN:STANDARD
TZOFFSETFROM:-0400
TZOFFSETTO:-0500
TZNAME:EST
DTSTART:20171105T060000
END:STANDARD
BEGIN:DAYLIGHT
TZOFFSETFROM:-0500
TZOFFSETTO:-0400
TZNAME:EDT
DTSTART:20180311T070000
END:DAYLIGHT
BEGIN:STANDARD
TZOFFSETFROM:-0400
TZOFFSETTO:-0500
TZNAME:EST
DTSTART:20181104T060000
END:STANDARD
BEGIN:DAYLIGHT
TZOFFSETFROM:-0500
TZOFFSETTO:-0400
TZNAME:EDT
DTSTART:20190310T070000
END:DAYLIGHT
BEGIN:STANDARD
TZOFFSETFROM:-0400
TZOFFSETTO:-0500
TZNAME:EST
DTSTART:20191103T060000
END:STANDARD
END:VTIMEZONE
BEGIN:VEVENT
DTSTART;VALUE=DATE:20181006
DTEND;VALUE=DATE:20181008
DTSTAMP:20260421T161143
CREATED:20180905T002609Z
LAST-MODIFIED:20250211T195640Z
UID:64271-1538784000-1538956799@asifaeast.com
SUMMARY:ANNY Best of Fest 2018!
DESCRIPTION:ANIMATION NIGHTS NEW YORK \npresents the\n\n2018 ANNY Best of Fest\n\n\nSaturday & Sunday\, Oct 6 – 7\, 2018\n\n180 Maiden Lane\nSeaport District\, NYC\n10038\n\n \n\n \n\nThe 2018 ANNY Best of Fest is a TWO DAY conference (Saturday & Sunday\, October 6-7\, 12pm-10pm) featuring Animation Screenings\, Fine Art Installation\, an XR Showcase\, Professional Panels\, and Industry Events\, held at 180 Maiden Lane in the Seaport District of NYC. \nMOBILE FESTIVAL SCHEDULE \n\n  \n 
URL:https://asifaeast.com/event/anny-best-of-fest-2018/
LOCATION:180 Maiden Lane\, 180 Maiden Lane\, New York\, NY\, 10038\, United States
CATEGORIES:Festival,Film Screening,Shorts Screening,Student Films,Workshop
ATTACH;FMTTYPE=image/jpeg:https://asifaeast.com/wp-content/uploads/2018/09/annyBOF18.jpg
END:VEVENT
BEGIN:VEVENT
DTSTART;TZID=America/New_York:20180510T160000
DTEND;TZID=America/New_York:20180510T210000
DTSTAMP:20260421T161143
CREATED:20180418T144522Z
LAST-MODIFIED:20180418T174338Z
UID:55048-1525968000-1525986000@asifaeast.com
SUMMARY:2018 NYU Spring Animation Showcase
DESCRIPTION:Each Spring\, the Animation Area students\, faculty\, friends and family come together to celebrate the films and work created throughout the year. Please join us in enjoying this year’s Showcase\, complete with the main screening of animated films\, student VR demos\, galleries of student physical artworks\, student class exercises\, stop motion puppets and sets. Come for wonderful company and stay for the vast amount of refreshments! The Event is open to the public \nThere will be two screening times: 4 PM and 7 PM. Hope to see you there! \n  \nFACEBOOK INVITE HERE
URL:https://asifaeast.com/event/2018-nyu-spring-animation-showcase/
LOCATION:NYU Tisch School of the Arts\, 721 Broadway\, New York\, NY\, 10003\, United States
CATEGORIES:Film Screening,Student Films
ATTACH;FMTTYPE=image/jpeg:https://asifaeast.com/wp-content/uploads/2018/04/mm1nVH3T_400x400.jpg
END:VEVENT
BEGIN:VEVENT
DTSTART;TZID=America/New_York:20180508T080000
DTEND;TZID=America/New_York:20180508T170000
DTSTAMP:20260421T161143
CREATED:20180418T150052Z
LAST-MODIFIED:20180418T174002Z
UID:55054-1525766400-1525798800@asifaeast.com
SUMMARY:Pratt Animation Showcase
DESCRIPTION:All student films from the DDA Program being screened at Higgins Hall on the Pratt Campus.
URL:https://asifaeast.com/event/pratt-animation-showcase/
LOCATION:Pratt Institute\, 200 Willoughby Ave\, Brooklyn\, NY\, 11205\, United States
CATEGORIES:Student Films
ATTACH;FMTTYPE=image/png:https://asifaeast.com/wp-content/uploads/2016/12/pratt_institute_banner.png
END:VEVENT
BEGIN:VEVENT
DTSTART;TZID=America/New_York:20180504T183000
DTEND;TZID=America/New_York:20180504T220000
DTSTAMP:20260421T161143
CREATED:20180418T174822Z
LAST-MODIFIED:20180418T174822Z
UID:55121-1525458600-1525471200@asifaeast.com
SUMMARY:29th Dusty Film & Animation Festival  | SVA Student Showcase
DESCRIPTION:ANNOUNCING\n29th Dusty Film & Animation Festival\nMay 4 – 8\, 2018\n\nAnimation Screenings:\nFriday\, May 4 \nFilm Screenings:\nSaturday\, May 5 – Sunday\, May 6 \n Dusty Awards:\n  Tuesday\, May 8 \n*Please note\, there will be no screenings on Monday\, May 7 due to Commencement  \nSince 1990\, the School of Visual Arts’ Dusty Film & Animation Festival has become one of the country’s foremost events to discover exceptional new talent in film and animation. The Dusty Film & Animation Festival gives BFA Film and BFA Animation thesis students the unique opportunity to exhibit their work to industry professionals\, family and friends. The festival culminates in our eminent Dusty Awards\, attended by distinguished guests from the film and animation industries.
URL:https://asifaeast.com/event/29th-dusty-film-animation-festival-sva-student-showcase/
LOCATION:NY
CATEGORIES:Film Screening,Student Films
ATTACH;FMTTYPE=image/png:https://asifaeast.com/wp-content/uploads/2016/12/Sponsor_SVA.png
END:VEVENT
BEGIN:VEVENT
DTSTART;TZID=America/New_York:20180503T183000
DTEND;TZID=America/New_York:20180503T203000
DTSTAMP:20260421T161143
CREATED:20180419T200118Z
LAST-MODIFIED:20180419T200241Z
UID:55545-1525372200-1525379400@asifaeast.com
SUMMARY:SVA Computer Art BFA Portfolio Night
DESCRIPTION:
URL:https://asifaeast.com/event/sva-computer-art-bfa-portfolio-night/
LOCATION:SVA West\, 133 West 21st Street\, New York\, NY\, 10011\, United States
CATEGORIES:Gallery,Student Films
ATTACH;FMTTYPE=image/png:https://asifaeast.com/wp-content/uploads/2016/12/Sponsor_SVA.png
END:VEVENT
BEGIN:VEVENT
DTSTART;TZID=America/New_York:20180502T190000
DTEND;TZID=America/New_York:20180502T213000
DTSTAMP:20260421T161143
CREATED:20180418T194704Z
LAST-MODIFIED:20180418T194704Z
UID:55158-1525287600-1525296600@asifaeast.com
SUMMARY:SVA MFACA 2018 Thesis Presentations 3D Animation
DESCRIPTION:School of Visual Arts Master of Fine Arts in Computer Arts screening of work by the students of 3D animation.
URL:https://asifaeast.com/event/sva-mfaca-2018-thesis-presentations-3d-animation/
LOCATION:NY
CATEGORIES:Student Films
ATTACH;FMTTYPE=image/png:https://asifaeast.com/wp-content/uploads/2016/12/Sponsor_SVA.png
END:VEVENT
BEGIN:VEVENT
DTSTART;TZID=America/New_York:20180430T180000
DTEND;TZID=America/New_York:20180430T220000
DTSTAMP:20260421T161143
CREATED:20180418T143804Z
LAST-MODIFIED:20180418T173933Z
UID:55043-1525111200-1525125600@asifaeast.com
SUMMARY:Best of DDA 2018 | Pratt Institute
DESCRIPTION:BEST OF DDA is a juried film festival featuring the best senior project and thesis animation work of students in the Department of Digital Arts at Pratt Institute. This work was selected by a jury made of DDA Faculty members.\nWe will be featuring two screenings of the same program\, one at 6:00pm and one at 9:00pm.\n \n\n\n\n\n\n\n\n\n\n  \n\nDEPARTMENT HISTORY\nPratt Digital Arts prepares and develops innovative artists through rigorous immersion in a diverse culture of excellence. Students pursue self-directed\, multi-disciplinary projects in a state of the art facility guided by a faculty of accomplished working artists. Our concentrations in Interactive Arts\, Digital Imaging and 3D Animation & Motion Arts emphasize experimentation and professionalism. Animation students create evocative narrative and non-narrative films using 2-D and 3-D digital animation techniques\, live action and motion graphics. Recommended electives include history of animation\, film criticism\, traditional animation\, character design\, rigging\, lighting and rendering\, audio and video\, compositing and special effects\, and advanced digital animation techniques.\n \n\nScreenings will be held at 6pm and 9pm. Reserve your tickets here: https://bit.ly/2Ehc1sZ. 
URL:https://asifaeast.com/event/best-of-dda-2018-pratt-institute/
LOCATION:Alamo Draft House\, 445 Albee Square West #4\, Brooklyn\, 11201
CATEGORIES:Student Films
ATTACH;FMTTYPE=image/png:https://asifaeast.com/wp-content/uploads/2016/12/pratt_institute_banner.png
END:VEVENT
BEGIN:VEVENT
DTSTART;TZID=America/New_York:20180429T140000
DTEND;TZID=America/New_York:20180429T190000
DTSTAMP:20260421T161143
CREATED:20180418T173552Z
LAST-MODIFIED:20180418T173828Z
UID:55110-1525010400-1525028400@asifaeast.com
SUMMARY:University of the Arts Film and Animation Showcase
DESCRIPTION:UNIVERSITY OF THE ARTS \nScreening is April 29th\nLevitt Auditorium in Gershman Hall\n401 S Broad Street Philadelphia\, PA 19147 \nShowtimes:\nSun. April 29: 2:00PM – Animation Show\nSun. April 29: 5:00PM – Combined Film and Animation Show \nReception to follow immediately after combined show.\nAll shows are free and open to the public. \n(Film lineup to be announced/posted soon!)
URL:https://asifaeast.com/event/university-of-the-arts-film-and-animation-showcase/
LOCATION:Levitt Auditorium at Gersham Hall\, 401 S Broad Street\, Philadelphia\, PA\, 19147\, United States
CATEGORIES:Film Screening,Student Films
ATTACH;FMTTYPE=image/jpeg:https://asifaeast.com/wp-content/uploads/2018/04/UArtsLogo_color_side.jpg
END:VEVENT
BEGIN:VEVENT
DTSTART;TZID=America/New_York:20170511T160000
DTEND;TZID=America/New_York:20170511T210000
DTSTAMP:20260421T161143
CREATED:20170418T125407Z
LAST-MODIFIED:20170418T125407Z
UID:13383-1494518400-1494536400@asifaeast.com
SUMMARY:NYU Tisch 2017 Spring Animation Showcase!
DESCRIPTION:“Each Spring\, the NYU Animation Area students\, faculty\, friends and family come together to celebrate the films and work created throughout the year!  Please join us in enjoying this year’s Showcase\, complete with a screening of animated films\, galleries of physical art\, and wonderful company and refreshments! \nThe 2017 NYU Spring Animation Showcase will take place on Thursday\, May 11th in the basement of Tisch\, 721 Broadway!  \nThere will be two screenings at 4pm and 7pm.”\n 
URL:https://asifaeast.com/event/nyu-tisch-2017-spring-animation-showcase/
LOCATION:NYU Tisch School of the Arts\, 721 Broadway\, New York\, NY\, 10003\, United States
CATEGORIES:Shorts Screening,Student Films
ATTACH;FMTTYPE=image/png:https://asifaeast.com/wp-content/uploads/2017/04/nyu2017.png
END:VEVENT
BEGIN:VEVENT
DTSTART;VALUE=DATE:20170505
DTEND;VALUE=DATE:20170509
DTSTAMP:20260421T161143
CREATED:20170418T131217Z
LAST-MODIFIED:20170418T131217Z
UID:13398-1493942400-1494287999@asifaeast.com
SUMMARY:Dusty Film & Animation Festival
DESCRIPTION:School of Visual Arts \n8th Dusty Film & Animation Festival\nMay 5 – 8\, 2017\n \nANNOUNCING\n2017 Dusty Outstanding Alumni Award Recipients \nShannon Prynoski\n(BFA 1994 Film & Video)\nProducer and Founder of Titmouse\nThe Venture Bros.\, Nico and the Sword of Light\, Nerdland \nChris Prynoski\n(BFA 1994 Animation)\nDirector/Producer and Founder of Titmouse\nMotorcity\, Nerdland\, Metalocalypse \nMichael Giacchino\n(BFA 1990 Film & Video)\nAcademy Award-winning Composer\nUp\, Lost\, Rogue One: A Star Wars Story \nSince 1990\, the School of Visual Arts’ Dusty Film & Animation Festival has become one of the country’s foremost events to discover exceptional new talent in film and animation. The Dusty Film & Animation Festival gives BFA Film and BFA Animation thesis students the unique opportunity to exhibit their work to industry professionals\, family and friends. The festival culminates in our eminent Dusty Awards\, attended by luminaries and distinguished guests from the film and animation industries. \n \nThe 2016 Dusty Awards presenters were: Academy Award-winning screenwriter Josh Singer (Spotlight\, The Fifth Estate\, The West Wing)\, actress/producer/director Trudie Styler (American Honey – Official Selection for the Festival de Cannes 2016\, Freak Show\, The Seagull)\, director/writer/producer Mark Osborne (The Little Prince\, Kung Fu Panda\, The SpongeBob SquarePants Movie)\, Academy Award-winning production sound mixer Chris Newman (The Godfather\, The Exorcist\, Amadeus)\, Emmy Award-winning documentary filmmaker Laurens Grant (The Black Panthers: Vanguard of the Revolution\, Freedom Riders)\, writer/director Ti West (The House of the Devil\, Wayward Pines\, VHS)\, editor Aaron Yanes(Tyson\, You Don’t Know Jack\, Europa Report)\, director of photography Michael Simmonds (Nerve\, White Girl\, Vice Principals)\, animator Howard Beckerman (Boop-Beep)\, producer and New York Women in Film & Television president Alexis Alexanian\, IFP program manager and producer Zach Mandinach and filmmaker Neil Burger (Limitless\, The Illusionist\, Divergent\, Billions). \nProducer/Director: Annie Flocco \nYou can find us on Facebook and Twitter
URL:https://asifaeast.com/event/dusty-film-animation-festival/
LOCATION:School of Visual Arts Theatre\, 333 West 23rd Street \, New York\, NY\, 10011\, United States
CATEGORIES:Shorts Screening,Student Films
ATTACH;FMTTYPE=image/jpeg:https://asifaeast.com/wp-content/uploads/2017/04/DustyMarquee-VAP-300x200.jpg
END:VEVENT
BEGIN:VEVENT
DTSTART;TZID=America/New_York:20170501T173000
DTEND;TZID=America/New_York:20170501T223000
DTSTAMP:20260421T161143
CREATED:20170418T133013Z
LAST-MODIFIED:20170418T133013Z
UID:13407-1493659800-1493677800@asifaeast.com
SUMMARY:Best of Pratt DDA: The Animation Show
DESCRIPTION:“Pratt Department of Digital Arts invites you to join us for BEST OF DDA 2017 at Alamo Drafthouse\, Brooklyn May 1! \nBEST OF DDA is a juried film festival featuring the best senior project and thesis animation work of students in the Department of Digital Arts at Pratt Institute. This work was selected by a jury made of DDA Faculty members. \nWe will be featuring two screenings of the same program\, one at 6:00pm and one at 9:00pm. \nPlease only reserve tickets for one screening. \nDoors will open for the first screening at 5:30pm (6:00pm showtime) \nDoors will open for the second screening at 8:30pm (9:00pm showtime) \nPlease be advised that we will be enforcing ticket type and show time using different colored stamps. Alamo Drafthouse features a great bar should you decide to arrive early or stay late. \n \nShare this event on Facebook and Twitter \nWe hope you can make it! \nCheers\,\nDepartment of Digital Arts\, Pratt Institute”
URL:https://asifaeast.com/event/best-of-pratt-dda-the-animation-show/
LOCATION:Alamo Draft House\, 445 Albee Square West #4\, Brooklyn\, 11201
CATEGORIES:Shorts Screening,Student Films
ATTACH;FMTTYPE=image/png:https://asifaeast.com/wp-content/uploads/2017/04/https-2F2Fcdn.evbuc_.com2Fimages2F274692312F309247112012F12Foriginal.png
END:VEVENT
END:VCALENDAR