BEGIN:VCALENDAR
VERSION:2.0
PRODID:-//ASIFA-East - ECPv6.15.20//NONSGML v1.0//EN
CALSCALE:GREGORIAN
METHOD:PUBLISH
X-WR-CALNAME:ASIFA-East
X-ORIGINAL-URL:https://asifaeast.com
X-WR-CALDESC:Events for ASIFA-East
REFRESH-INTERVAL;VALUE=DURATION:PT1H
X-Robots-Tag:noindex
X-PUBLISHED-TTL:PT1H
BEGIN:VTIMEZONE
TZID:America/New_York
BEGIN:DAYLIGHT
TZOFFSETFROM:-0500
TZOFFSETTO:-0400
TZNAME:EDT
DTSTART:20240310T070000
END:DAYLIGHT
BEGIN:STANDARD
TZOFFSETFROM:-0400
TZOFFSETTO:-0500
TZNAME:EST
DTSTART:20241103T060000
END:STANDARD
BEGIN:DAYLIGHT
TZOFFSETFROM:-0500
TZOFFSETTO:-0400
TZNAME:EDT
DTSTART:20250309T070000
END:DAYLIGHT
BEGIN:STANDARD
TZOFFSETFROM:-0400
TZOFFSETTO:-0500
TZNAME:EST
DTSTART:20251102T060000
END:STANDARD
BEGIN:DAYLIGHT
TZOFFSETFROM:-0500
TZOFFSETTO:-0400
TZNAME:EDT
DTSTART:20260308T070000
END:DAYLIGHT
BEGIN:STANDARD
TZOFFSETFROM:-0400
TZOFFSETTO:-0500
TZNAME:EST
DTSTART:20261101T060000
END:STANDARD
END:VTIMEZONE
BEGIN:VEVENT
DTSTART;TZID=America/New_York:20250317T180000
DTEND;TZID=America/New_York:20250317T210000
DTSTAMP:20260425T160500
CREATED:20250211T183444Z
LAST-MODIFIED:20250317T161400Z
UID:67861-1742234400-1742245200@asifaeast.com
SUMMARY:Festival Jury Screenings - Independent I\, Music Video\, and Experimental Films
DESCRIPTION:Wonderful News! Back as an in-person event\, ASIFA East Animated Film Festival Jury screenings will be held on 2 nights\, and because of the amazing amount of entries—half of the independent films will be shown on each night! \nScreening Night I will be at the SVA Theatre (333 W 23rd St\, New York\, NY 10011) this coming Monday 3/17. Screening Night II will follow on Monday (3/24) with the location yet to be determined. On March 17 we will be showing the first half of our Independent Films\, as well as Music Videos and Experimental Films\, and on March 24th we will be screening the second half of our Independent Films\, along with the Commercial Films. \nStudent Film screenings (an additional 2-night event)\, as well as reprises of the in-person programs\, will be held as additional livestreams over the course of the month.
URL:https://asifaeast.com/event/festival-jury-screenings-music-video-commercial-and-experimental-films/
LOCATION:SVA Theatre\, 333 West 23rd Street\, New York\, NY\, 10011\, United States
CATEGORIES:ASIFA-East Festival,Shorts Screening
END:VEVENT
BEGIN:VEVENT
DTSTART;TZID=America/New_York:20250325T183000
DTEND;TZID=America/New_York:20250325T213000
DTSTAMP:20260425T160500
CREATED:20250211T184358Z
LAST-MODIFIED:20250320T175921Z
UID:67862-1742927400-1742938200@asifaeast.com
SUMMARY:Festival Jury Screenings - Independent II and Commercial Films
DESCRIPTION:Wonderful News! Back as an in-person event\, ASIFA East Animated Film Festival Jury screenings will be held on 2 nights\, and because of the amazing amount of entries—half of the independent films will be shown on each night! \nWe look forward to welcoming everyone back on this coming Tuesday (3/25) at the School of Visual Arts. The new venue for next week’s screening will be 133 West 21st Street\, room: 101C from 6:30pm to 9:30pm. Guests will be required to sign in at the front desk\, so arrive early to enjoy the show We will be screening the second half of our Independent Films\, along with the Commercial Films. \nStudent Film screenings (an additional 2-night event)\, as well as reprises of the in-person programs\, will be held as additional livestreams over the course of the month.
URL:https://asifaeast.com/event/festival-jury-screenings-independent-films/
LOCATION:SVA – Room 101C\, 133 West 21st Street\, New York\, NY\, 10011\, United States
CATEGORIES:ASIFA-East Festival,Shorts Screening
END:VEVENT
END:VCALENDAR