BEGIN:VCALENDAR
VERSION:2.0
PRODID:-//ASIFA-East - ECPv6.15.20//NONSGML v1.0//EN
CALSCALE:GREGORIAN
METHOD:PUBLISH
X-WR-CALNAME:ASIFA-East
X-ORIGINAL-URL:https://asifaeast.com
X-WR-CALDESC:Events for ASIFA-East
REFRESH-INTERVAL;VALUE=DURATION:PT1H
X-Robots-Tag:noindex
X-PUBLISHED-TTL:PT1H
BEGIN:VTIMEZONE
TZID:America/New_York
BEGIN:DAYLIGHT
TZOFFSETFROM:-0500
TZOFFSETTO:-0400
TZNAME:EDT
DTSTART:20160313T070000
END:DAYLIGHT
BEGIN:STANDARD
TZOFFSETFROM:-0400
TZOFFSETTO:-0500
TZNAME:EST
DTSTART:20161106T060000
END:STANDARD
BEGIN:DAYLIGHT
TZOFFSETFROM:-0500
TZOFFSETTO:-0400
TZNAME:EDT
DTSTART:20170312T070000
END:DAYLIGHT
BEGIN:STANDARD
TZOFFSETFROM:-0400
TZOFFSETTO:-0500
TZNAME:EST
DTSTART:20171105T060000
END:STANDARD
BEGIN:DAYLIGHT
TZOFFSETFROM:-0500
TZOFFSETTO:-0400
TZNAME:EDT
DTSTART:20180311T070000
END:DAYLIGHT
BEGIN:STANDARD
TZOFFSETFROM:-0400
TZOFFSETTO:-0500
TZNAME:EST
DTSTART:20181104T060000
END:STANDARD
BEGIN:DAYLIGHT
TZOFFSETFROM:-0500
TZOFFSETTO:-0400
TZNAME:EDT
DTSTART:20190310T070000
END:DAYLIGHT
BEGIN:STANDARD
TZOFFSETFROM:-0400
TZOFFSETTO:-0500
TZNAME:EST
DTSTART:20191103T060000
END:STANDARD
END:VTIMEZONE
BEGIN:VEVENT
DTSTART;TZID=America/New_York:20180405T190000
DTEND;TZID=America/New_York:20180405T213000
DTSTAMP:20260419T152009
CREATED:20180315T184145Z
LAST-MODIFIED:20180315T184145Z
UID:49722-1522954800-1522963800@asifaeast.com
SUMMARY:Figure Drawing @ The Productive
DESCRIPTION:Free for ASIFA East members $10 at the door otherwise.
URL:https://asifaeast.com/event/figure-drawing-the-productive-3/
LOCATION:The Productive\, 40 W 38th Street\, New York\, NY\, 10018\, United States
CATEGORIES:Figure Drawing
ATTACH;FMTTYPE=image/jpeg:https://asifaeast.com/wp-content/uploads/2012/08/drawing-cb01-scaled.jpg
END:VEVENT
BEGIN:VEVENT
DTSTART;TZID=America/New_York:20180315T080000
DTEND;TZID=America/New_York:20180315T170000
DTSTAMP:20260419T152009
CREATED:20180531T185926Z
LAST-MODIFIED:20180315T191810Z
UID:49742-1521100800-1521133200@asifaeast.com
SUMMARY:Figure Drawing @ The Productive
DESCRIPTION:Free for ASIFA East members $10 at the door otherwise.
URL:https://asifaeast.com/event/figure-drawing-the-productive-11/
LOCATION:The Productive\, 40 W 38th Street\, New York\, NY\, 10018\, United States
CATEGORIES:Figure Drawing
ATTACH;FMTTYPE=image/jpeg:https://asifaeast.com/wp-content/uploads/2012/08/drawing-cb01-scaled.jpg
END:VEVENT
BEGIN:VEVENT
DTSTART;TZID=America/New_York:20171221T190000
DTEND;TZID=America/New_York:20171221T213000
DTSTAMP:20260419T152009
CREATED:20171116T192437Z
LAST-MODIFIED:20171116T192437Z
UID:44785-1513882800-1513891800@asifaeast.com
SUMMARY:Figure Drawing @ The Productive 7pm to 9:30pm
DESCRIPTION: Quick nude gesture poses. 1 min to 10 min poses.\n\n\n\n\nFree for members of ASIFA East and The Productive Coworking Studio. $10 for non-members.
URL:https://asifaeast.com/event/figure-drawing-the-productive-7pm-to-930pm-9/
LOCATION:The Productive\, 40 W 38th Street\, New York\, NY\, 10018\, United States
CATEGORIES:Figure Drawing
ORGANIZER;CN="ASIFA East":MAILTO:asifaeastevents@gmail.com
END:VEVENT
BEGIN:VEVENT
DTSTART;TZID=America/New_York:20171214T190000
DTEND;TZID=America/New_York:20171214T213000
DTSTAMP:20260419T152009
CREATED:20171116T184621Z
LAST-MODIFIED:20171116T184705Z
UID:44764-1513278000-1513287000@asifaeast.com
SUMMARY:Figure Drawing @ The Productive 7pm to 9:30pm
DESCRIPTION: Quick nude gesture poses. 1 min to 10 min poses.\n\n\nFree for members of ASIFA East and The Productive Coworking Studio. $10 for non-members.
URL:https://asifaeast.com/event/figure-drawing-the-productive-7pm-to-930pm-8/
LOCATION:NY
CATEGORIES:Figure Drawing
ORGANIZER;CN="ASIFA East":MAILTO:asifaeastevents@gmail.com
END:VEVENT
BEGIN:VEVENT
DTSTART;TZID=America/New_York:20171207T080000
DTEND;TZID=America/New_York:20171207T170000
DTSTAMP:20260419T152009
CREATED:20171116T184214Z
LAST-MODIFIED:20171116T184214Z
UID:44762-1512633600-1512666000@asifaeast.com
SUMMARY:Figure Drawing @ The Productive 7pm to 9:30pm
DESCRIPTION:Quick nude gesture poses. 1 min to 10 min poses. \nFree for members of ASIFA East and The Productive Coworking Studio. $10 for non-members.
URL:https://asifaeast.com/event/figure-drawing-the-productive-7pm-to-930pm-7/
LOCATION:The Productive\, 40 W 38th Street\, New York\, NY\, 10018\, United States
CATEGORIES:Figure Drawing
END:VEVENT
BEGIN:VEVENT
DTSTART;TZID=America/New_York:20171130T190000
DTEND;TZID=America/New_York:20171130T213000
DTSTAMP:20260419T152009
CREATED:20171116T184046Z
LAST-MODIFIED:20171116T184046Z
UID:44760-1512068400-1512077400@asifaeast.com
SUMMARY:Figure Drawing @ The Productive 7pm to 9:30pm
DESCRIPTION:Quick nude gesture poses. 1 min to 10 min poses. \nFree for members of ASIFA East and The Productive Coworking Studio. $10 for non-members.
URL:https://asifaeast.com/event/figure-drawing-the-productive-7pm-to-930pm-6/
LOCATION:The Productive\, 40 W 38th Street\, New York\, NY\, 10018\, United States
CATEGORIES:Figure Drawing
END:VEVENT
BEGIN:VEVENT
DTSTART;TZID=America/New_York:20171116T190000
DTEND;TZID=America/New_York:20171116T213000
DTSTAMP:20260419T152009
CREATED:20171116T183908Z
LAST-MODIFIED:20171116T183908Z
UID:44757-1510858800-1510867800@asifaeast.com
SUMMARY:Figure Drawing @ The Productive 7pm to 9:30pm
DESCRIPTION:Quick nude gesture poses. 1 min to 10 min poses. \nFree for members of ASIFA East and The Productive Coworking Studio. $10 for non-members.
URL:https://asifaeast.com/event/figure-drawing-the-productive-7pm-to-930pm-5/
LOCATION:The Productive\, 40 W 38th Street\, New York\, NY\, 10018\, United States
CATEGORIES:Figure Drawing
END:VEVENT
BEGIN:VEVENT
DTSTART;TZID=America/New_York:20170727T190000
DTEND;TZID=America/New_York:20170727T213000
DTSTAMP:20260419T152009
CREATED:20170601T194309Z
LAST-MODIFIED:20170601T194309Z
UID:15325-1501182000-1501191000@asifaeast.com
SUMMARY:ASIFA East Figure Drawing
DESCRIPTION:Nude figure drawing is held at The Productive every Thursday from 7pm-9:30pm. Sessions are free to all current ASIFA East members ($10 for non-members) and are hosted by Dan Pinto and David Langkamp.
URL:https://asifaeast.com/event/asifa-east-figure-drawing-26/
LOCATION:The Productive\, 40 W 38th Street\, New York\, NY\, 10018\, United States
CATEGORIES:ASIFA-East,Figure Drawing
ATTACH;FMTTYPE=image/jpeg:https://asifaeast.com/wp-content/uploads/2017/02/ASIFAdrawing.jpg
END:VEVENT
BEGIN:VEVENT
DTSTART;TZID=America/New_York:20170720T190000
DTEND;TZID=America/New_York:20170720T213000
DTSTAMP:20260419T152009
CREATED:20170601T194050Z
LAST-MODIFIED:20170601T194050Z
UID:15323-1500577200-1500586200@asifaeast.com
SUMMARY:ASIFA East Figure Drawing
DESCRIPTION:Nude figure drawing is held at The Productive every Thursday from 7pm-9:30pm. Sessions are free to all current ASIFA East members ($10 for non-members) and are hosted by Dan Pinto and David Langkamp.
URL:https://asifaeast.com/event/asifa-east-figure-drawing-25/
LOCATION:The Productive\, 40 W 38th Street\, New York\, NY\, 10018\, United States
CATEGORIES:ASIFA-East,Figure Drawing
ATTACH;FMTTYPE=image/jpeg:https://asifaeast.com/wp-content/uploads/2017/02/ASIFAdrawing.jpg
END:VEVENT
BEGIN:VEVENT
DTSTART;TZID=America/New_York:20170713T190000
DTEND;TZID=America/New_York:20170713T213000
DTSTAMP:20260419T152009
CREATED:20170601T193812Z
LAST-MODIFIED:20170601T193812Z
UID:15321-1499972400-1499981400@asifaeast.com
SUMMARY:ASIFA East Figure Drawing
DESCRIPTION:Nude figure drawing is held at The Productive every Thursday from 7pm-9:30pm. Sessions are free to all current ASIFA East members ($10 for non-members) and are hosted by Dan Pinto and David Langkamp.
URL:https://asifaeast.com/event/asifa-east-figure-drawing-24/
LOCATION:The Productive\, 40 W 38th Street\, New York\, NY\, 10018\, United States
CATEGORIES:ASIFA-East,Figure Drawing
ATTACH;FMTTYPE=image/jpeg:https://asifaeast.com/wp-content/uploads/2017/02/ASIFAdrawing.jpg
END:VEVENT
BEGIN:VEVENT
DTSTART;TZID=America/New_York:20170706T190000
DTEND;TZID=America/New_York:20170706T213000
DTSTAMP:20260419T152009
CREATED:20170601T193352Z
LAST-MODIFIED:20170601T193352Z
UID:15318-1499367600-1499376600@asifaeast.com
SUMMARY:ASIFA East Figure Drawing
DESCRIPTION:Nude figure drawing is held at The Productive every Thursday from 7pm-9:30pm. Sessions are free to all current ASIFA East members ($10 for non-members) and are hosted by Dan Pinto and David Langkamp.
URL:https://asifaeast.com/event/asifa-east-figure-drawing-23/
LOCATION:The Productive\, 40 W 38th Street\, New York\, NY\, 10018\, United States
CATEGORIES:ASIFA-East,Figure Drawing
ATTACH;FMTTYPE=image/jpeg:https://asifaeast.com/wp-content/uploads/2017/02/ASIFAdrawing.jpg
END:VEVENT
BEGIN:VEVENT
DTSTART;TZID=America/New_York:20170629T080000
DTEND;TZID=America/New_York:20170629T170000
DTSTAMP:20260419T152009
CREATED:20170601T191645Z
LAST-MODIFIED:20170601T191645Z
UID:15240-1498723200-1498755600@asifaeast.com
SUMMARY:ASIFA East Figure Drawing
DESCRIPTION:Nude figure drawing is held at The Productive every Thursday from 7pm-9:30pm. Sessions are free to all current ASIFA East members ($10 for non-members) and are hosted by Dan Pinto and David Langkamp.
URL:https://asifaeast.com/event/asifa-east-figure-drawing-22/
LOCATION:The Productive\, 40 W 38th Street\, New York\, NY\, 10018\, United States
CATEGORIES:ASIFA-East,Figure Drawing
ATTACH;FMTTYPE=image/jpeg:https://asifaeast.com/wp-content/uploads/2017/02/ASIFAdrawing.jpg
END:VEVENT
BEGIN:VEVENT
DTSTART;TZID=America/New_York:20170622T190000
DTEND;TZID=America/New_York:20170622T213000
DTSTAMP:20260419T152009
CREATED:20170601T185142Z
LAST-MODIFIED:20170601T185142Z
UID:15237-1498158000-1498167000@asifaeast.com
SUMMARY:ASIFA East Figure Drawing
DESCRIPTION:Nude figure drawing is held at The Productive every Thursday from 7pm-9:30pm. Sessions are free to all current ASIFA East members ($10 for non-members) and are hosted by Dan Pinto and David Langkamp.
URL:https://asifaeast.com/event/asifa-east-figure-drawing-21/
LOCATION:The Productive\, 40 W 38th Street\, New York\, NY\, 10018\, United States
CATEGORIES:ASIFA-East,Figure Drawing
ATTACH;FMTTYPE=image/jpeg:https://asifaeast.com/wp-content/uploads/2017/02/ASIFAdrawing.jpg
END:VEVENT
BEGIN:VEVENT
DTSTART;TZID=America/New_York:20170615T190000
DTEND;TZID=America/New_York:20170615T213000
DTSTAMP:20260419T152009
CREATED:20170601T184858Z
LAST-MODIFIED:20170601T184858Z
UID:15235-1497553200-1497562200@asifaeast.com
SUMMARY:ASIFA East Figure Drawing
DESCRIPTION:Nude figure drawing is held at The Productive every Thursday from 7pm-9:30pm. Sessions are free to all current ASIFA East members ($10 for non-members) and are hosted by Dan Pinto and David Langkamp.
URL:https://asifaeast.com/event/asifa-east-figure-drawing-20/
LOCATION:The Productive\, 40 W 38th Street\, New York\, NY\, 10018\, United States
CATEGORIES:ASIFA-East,Figure Drawing
ATTACH;FMTTYPE=image/jpeg:https://asifaeast.com/wp-content/uploads/2017/02/ASIFAdrawing.jpg
END:VEVENT
BEGIN:VEVENT
DTSTART;TZID=America/New_York:20170608T190000
DTEND;TZID=America/New_York:20170608T213000
DTSTAMP:20260419T152009
CREATED:20170601T184746Z
LAST-MODIFIED:20170601T184934Z
UID:15233-1496948400-1496957400@asifaeast.com
SUMMARY:ASIFA East Figure Drawing
DESCRIPTION:Nude figure drawing is held at The Productive every Thursday from 7pm-9:30pm. Sessions are free to all current ASIFA East members ($10 for non-members) and are hosted by Dan Pinto and David Langkamp.
URL:https://asifaeast.com/event/asifa-east-figure-drawing-19/
LOCATION:The Productive\, 40 W 38th Street\, New York\, NY\, 10018\, United States
CATEGORIES:ASIFA-East,Figure Drawing
ATTACH;FMTTYPE=image/jpeg:https://asifaeast.com/wp-content/uploads/2017/02/ASIFAdrawing.jpg
END:VEVENT
BEGIN:VEVENT
DTSTART;TZID=America/New_York:20170601T190000
DTEND;TZID=America/New_York:20170601T213000
DTSTAMP:20260419T152009
CREATED:20170601T184618Z
LAST-MODIFIED:20170601T184618Z
UID:15229-1496343600-1496352600@asifaeast.com
SUMMARY:ASIFA East Figure Drawing
DESCRIPTION:Nude figure drawing is held at The Productive every Thursday from 7pm-9:30pm. Sessions are free to all current ASIFA East members ($10 for non-members) and are hosted by Dan Pinto and David Langkamp.
URL:https://asifaeast.com/event/asifa-east-figure-drawing-18/
LOCATION:The Productive\, 40 W 38th Street\, New York\, NY\, 10018\, United States
CATEGORIES:ASIFA-East,Figure Drawing
ATTACH;FMTTYPE=image/jpeg:https://asifaeast.com/wp-content/uploads/2017/02/ASIFAdrawing.jpg
END:VEVENT
BEGIN:VEVENT
DTSTART;TZID=America/New_York:20170525T190000
DTEND;TZID=America/New_York:20170525T213000
DTSTAMP:20260419T152009
CREATED:20170502T170558Z
LAST-MODIFIED:20170502T170558Z
UID:13534-1495738800-1495747800@asifaeast.com
SUMMARY:ASIFA East Figure Drawing
DESCRIPTION:Nude figure drawing is held at The Productive every Thursday from 7pm-9:30pm. Sessions are free to all current ASIFA East members ($10 for non-members) and are hosted by Dan Pinto and David Langkamp.
URL:https://asifaeast.com/event/asifa-east-figure-drawing-17/
LOCATION:The Productive\, 40 W 38th Street\, New York\, NY\, 10018\, United States
CATEGORIES:ASIFA-East,Figure Drawing
ATTACH;FMTTYPE=image/jpeg:https://asifaeast.com/wp-content/uploads/2017/01/Meres-drawing-e1491508721250.jpg
END:VEVENT
BEGIN:VEVENT
DTSTART;TZID=America/New_York:20170518T190000
DTEND;TZID=America/New_York:20170518T213000
DTSTAMP:20260419T152009
CREATED:20170502T170159Z
LAST-MODIFIED:20170502T170159Z
UID:13532-1495134000-1495143000@asifaeast.com
SUMMARY:ASIFA East Figure Drawing
DESCRIPTION:Nude figure drawing is held at The Productive every Thursday from 7pm-9:30pm. Sessions are free to all current ASIFA East members ($10 for non-members) and are hosted by Dan Pinto and David Langkamp.
URL:https://asifaeast.com/event/asifa-east-figure-drawing-16/
LOCATION:The Productive\, 40 W 38th Street\, New York\, NY\, 10018\, United States
CATEGORIES:ASIFA-East,Figure Drawing
ATTACH;FMTTYPE=image/jpeg:https://asifaeast.com/wp-content/uploads/2017/01/Meres-drawing-e1491508721250.jpg
END:VEVENT
BEGIN:VEVENT
DTSTART;TZID=America/New_York:20170511T190000
DTEND;TZID=America/New_York:20170511T213000
DTSTAMP:20260419T152009
CREATED:20170502T165734Z
LAST-MODIFIED:20170502T165859Z
UID:13530-1494529200-1494538200@asifaeast.com
SUMMARY:ASIFA East Figure Drawing
DESCRIPTION:Nude figure drawing is held at The Productive every Thursday from 7pm-9:30pm. Sessions are free to all current ASIFA East members ($10 for non-members) and are hosted by Dan Pinto and David Langkamp.
URL:https://asifaeast.com/event/asifa-east-figure-drawing-15/
LOCATION:The Productive\, 40 W 38th Street\, New York\, NY\, 10018\, United States
CATEGORIES:ASIFA-East,Figure Drawing
ATTACH;FMTTYPE=image/jpeg:https://asifaeast.com/wp-content/uploads/2017/02/ASIFAdrawing.jpg
END:VEVENT
BEGIN:VEVENT
DTSTART;TZID=America/New_York:20170504T190000
DTEND;TZID=America/New_York:20170504T213000
DTSTAMP:20260419T152009
CREATED:20170502T165500Z
LAST-MODIFIED:20170502T165500Z
UID:13528-1493924400-1493933400@asifaeast.com
SUMMARY:ASIFA East Figure Drawing
DESCRIPTION:Nude figure drawing is held at The Productive every Thursday from 7pm-9:30pm. Sessions are free to all current ASIFA East members ($10 for non-members) and are hosted by Dan Pinto and David Langkamp.
URL:https://asifaeast.com/event/asifa-east-figure-drawing-14/
LOCATION:The Productive\, 40 W 38th Street\, New York\, NY\, 10018\, United States
CATEGORIES:Figure Drawing
ATTACH;FMTTYPE=image/jpeg:https://asifaeast.com/wp-content/uploads/2017/02/ASIFAdrawing.jpg
END:VEVENT
BEGIN:VEVENT
DTSTART;VALUE=DATE:20170503
DTEND;VALUE=DATE:20170507
DTSTAMP:20260419T152009
CREATED:20170418T132500Z
LAST-MODIFIED:20170418T132500Z
UID:13402-1493769600-1494115199@asifaeast.com
SUMMARY:Little Cinema No. 30 SECRET IMMERSIVE SCREENING
DESCRIPTION:“We love color\, we love whimsy and we love venturing into a new world we’ve never ventured into – ANIMATION! \nLittle Cinema is celebrating it’s 30th Anniversary in an explosion of music\, color\, psychedelia\, fun and ridiculousness.\n \nAnd if you love us the way we love you\, you’ll trust us with our new ticket class.\n \n\n \n‘Little Secret’ – $20 \n(Price goes up once movie is announced)\n \nGET TICKETS NOW\nA 2nd show added Sat May 6!\n\nLove\,  \nJay & Team Litte Cinema x” \n 
URL:https://asifaeast.com/event/little-cinema-no-30-secret-immersive-screening/
LOCATION:Little Cinema\, 2 Wyckoff Ave\, Brooklyn\, NY\, 11237\, United States
CATEGORIES:Figure Drawing,Party
END:VEVENT
BEGIN:VEVENT
DTSTART;TZID=America/New_York:20170427T190000
DTEND;TZID=America/New_York:20170427T213000
DTSTAMP:20260419T152009
CREATED:20170406T200345Z
LAST-MODIFIED:20170406T200345Z
UID:13281-1493319600-1493328600@asifaeast.com
SUMMARY:ASIFA East Figure Drawing
DESCRIPTION:Nude figure drawing is held at The Productive every Thursday from 7pm-9:30pm. Sessions are free to all current ASIFA East members ($10 for non-members) and are hosted by Dan Pinto and David Langkamp.
URL:https://asifaeast.com/event/asifa-east-figure-drawing-13/
LOCATION:The Productive\, 40 W 38th Street\, New York\, NY\, 10018\, United States
CATEGORIES:Figure Drawing
ATTACH;FMTTYPE=image/jpeg:https://asifaeast.com/wp-content/uploads/2017/02/ASIFAdrawing.jpg
END:VEVENT
BEGIN:VEVENT
DTSTART;TZID=America/New_York:20170420T190000
DTEND;TZID=America/New_York:20170420T213000
DTSTAMP:20260419T152009
CREATED:20170406T200213Z
LAST-MODIFIED:20170406T200213Z
UID:13279-1492714800-1492723800@asifaeast.com
SUMMARY:ASIFA East Figure Drawing
DESCRIPTION:Nude figure drawing is held at The Productive every Thursday from 7pm-9:30pm. Sessions are free to all current ASIFA East members ($10 for non-members) and are hosted by Dan Pinto and David Langkamp.
URL:https://asifaeast.com/event/asifa-east-figure-drawing-12/
LOCATION:The Productive\, 40 W 38th Street\, New York\, NY\, 10018\, United States
CATEGORIES:Figure Drawing
ATTACH;FMTTYPE=image/jpeg:https://asifaeast.com/wp-content/uploads/2017/02/ASIFAdrawing.jpg
END:VEVENT
BEGIN:VEVENT
DTSTART;TZID=America/New_York:20170406T190000
DTEND;TZID=America/New_York:20170406T213000
DTSTAMP:20260419T152009
CREATED:20170406T195921Z
LAST-MODIFIED:20170406T195921Z
UID:13275-1491505200-1491514200@asifaeast.com
SUMMARY:ASIFA East Figure Drawing
DESCRIPTION:Nude figure drawing is held at The Productive every Thursday from 7pm-9:30pm. Sessions are free to all current ASIFA East members ($10 for non-members) and are hosted by Dan Pinto and David Langkamp.
URL:https://asifaeast.com/event/asifa-east-figure-drawing-8/
LOCATION:The Productive\, 40 W 38th Street\, New York\, NY\, 10018\, United States
CATEGORIES:Figure Drawing
ATTACH;FMTTYPE=image/jpeg:https://asifaeast.com/wp-content/uploads/2017/02/ASIFAdrawing.jpg
END:VEVENT
BEGIN:VEVENT
DTSTART;TZID=America/New_York:20170301T200000
DTEND;TZID=America/New_York:20170301T220000
DTSTAMP:20260419T152009
CREATED:20170226T210206Z
LAST-MODIFIED:20170226T210206Z
UID:13030-1488398400-1488405600@asifaeast.com
SUMMARY:Anyone Comics Grand Opening Drink-N-Draw!
DESCRIPTION:Drink-N-Draw BK is back! What better place to draw cosplay models then the amazing new gallery space at Anyone Comics? In honor of Anyone Comics grand opening we will be drawing two amazing DC Comic inspired models! \n$10 cover includes you a limited sketchbook\, 2 hour of drawing and refreshments! \nCome to the store early to meet Aquaman Artist Brad Walker from 6-8pm\n\nAnyone Comics is opening the door to the public and to celebrate\, we are giving YOU the customer 25% off your purchases.\nThat’s Comics\, Graphic Novels and T-shirt for 25% off!\nPlus we have Cosplay!\nSpecial Guest creator signings!\nDrink and Draw (After 8pm. 21 and up!)\nAnd an after party at the Way Station! (After 9pm. 21 and up!) \nMore infor about Anyone Comics day filled with events here:\nhttps://www.facebook.com/events/406559186361240/
URL:https://asifaeast.com/event/anyone-comics-grand-opening-drink-n-draw/
LOCATION:Anyone Comics\, 1216 Union Street\, Brooklyn\, NY\, 11225\, United States
CATEGORIES:Figure Drawing
ATTACH;FMTTYPE=image/jpeg:https://asifaeast.com/wp-content/uploads/2017/02/16903428_1390021754391687_7947369001582953540_o.jpg
END:VEVENT
BEGIN:VEVENT
DTSTART;TZID=America/New_York:20170126T190000
DTEND;TZID=America/New_York:20170126T203000
DTSTAMP:20260419T152009
CREATED:20170110T213030Z
LAST-MODIFIED:20170117T034417Z
UID:12704-1485457200-1485462600@asifaeast.com
SUMMARY:ASIFA East Figure Drawing
DESCRIPTION:Nude figure drawing is held at The Productive every Thursday from 7pm-9:30pm.  Sessions are free to all current ASIFA East members ($10 for non-members) and are hosted by Dan Pinto and David Langkamp.
URL:https://asifaeast.com/event/asifa-east-figure-drawing-3/
LOCATION:The Productive\, 40 W 38th Street\, New York\, NY\, 10018\, United States
CATEGORIES:Figure Drawing
ATTACH;FMTTYPE=image/jpeg:https://asifaeast.com/wp-content/uploads/2017/01/Meres-drawing-e1491508721250.jpg
END:VEVENT
BEGIN:VEVENT
DTSTART;TZID=America/New_York:20170119T190000
DTEND;TZID=America/New_York:20170119T213000
DTSTAMP:20260419T152009
CREATED:20170110T212625Z
LAST-MODIFIED:20170117T034420Z
UID:12702-1484852400-1484861400@asifaeast.com
SUMMARY:ASIFA East Figure Drawing
DESCRIPTION:Nude figure drawing is held at The Productive every Thursday from 7pm-9:30pm.  Sessions are free to all current ASIFA East members ($10 for non-members) and are hosted by Dan Pinto and David Langkamp.
URL:https://asifaeast.com/event/asifa-east-figure-drawing-2/
LOCATION:The Productive\, 40 W 38th Street\, New York\, NY\, 10018\, United States
CATEGORIES:Figure Drawing
ATTACH;FMTTYPE=image/jpeg:https://asifaeast.com/wp-content/uploads/2017/01/Meres-drawing-e1491508721250.jpg
END:VEVENT
BEGIN:VEVENT
DTSTART;TZID=America/New_York:20170114T163000
DTEND;TZID=America/New_York:20170114T193000
DTSTAMP:20260419T152009
CREATED:20170104T144209Z
LAST-MODIFIED:20170105T023708Z
UID:12590-1484411400-1484422200@asifaeast.com
SUMMARY:Dr. Sketchy's and the Green Fairy
DESCRIPTION:Join the decadents of Dr. Sketchy’s in the new year to forget the troubles of the old with a glass of absinthe and a visit from the Green Fairy. Our sketching salon will be joining forces with Green Fairy at the Red Room\, a fabulous nightlife event that showcases the tradition and current purveyors of absinthe and the best in speakeasy performances in NYC.  \nOur very own green fairy for the evening is the gorgeous Miss Art Deco herself Dandy Dillinger. The fin-de-siecle artist she will be beguiling\, inspiring and leading to his doom is the charming Dick Move. \nOur sponsors this month are Green Fairy at the Red Room! January 5th\, Black Phoenix Alchemy Lab and Fyodor Pavlov Art. \nNo photography allowed\, the models will do all the flashing. \nFlûte Bar\, 205 West 54th St. \n$12 in advance\, $15 at the door\, and a 2 drink minimum from Flûte Bar’s delicious happy hour menu. \nTickets on sale now! http://www.drsketchy.com/branch/newyork
URL:https://asifaeast.com/event/dr-sketchys-and-the-green-fairy/
LOCATION:Flute Midtown\, 205 W. 54th St.\, \, New York\, NY\, 10019\, United States
CATEGORIES:Figure Drawing
ATTACH;FMTTYPE=image/jpeg:https://asifaeast.com/wp-content/uploads/2017/01/15665687_10157845516805543_697604115239375032_n.jpg
END:VEVENT
BEGIN:VEVENT
DTSTART;TZID=America/New_York:20170112T190000
DTEND;TZID=America/New_York:20170112T213000
DTSTAMP:20260419T152009
CREATED:20170110T211634Z
LAST-MODIFIED:20170117T034414Z
UID:12696-1484247600-1484256600@asifaeast.com
SUMMARY:ASIFA East Figure Drawing
DESCRIPTION:Nude figure drawing is held at The Productive every Thursday from 7pm-9:30pm.  Sessions are free to all current ASIFA East members ($10 for non-members) and are hosted by Dan Pinto and David Langkamp.
URL:https://asifaeast.com/event/asifa-east-figure-drawing/
LOCATION:The Productive\, 40 W 38th Street\, New York\, NY\, 10018\, United States
CATEGORIES:Figure Drawing
ATTACH;FMTTYPE=image/jpeg:https://asifaeast.com/wp-content/uploads/2017/01/Meres-drawing-e1491508721250.jpg
END:VEVENT
END:VCALENDAR