BEGIN:VCALENDAR
VERSION:2.0
PRODID:-//ASIFA-East - ECPv6.15.20//NONSGML v1.0//EN
CALSCALE:GREGORIAN
METHOD:PUBLISH
X-WR-CALNAME:ASIFA-East
X-ORIGINAL-URL:https://asifaeast.com
X-WR-CALDESC:Events for ASIFA-East
REFRESH-INTERVAL;VALUE=DURATION:PT1H
X-Robots-Tag:noindex
X-PUBLISHED-TTL:PT1H
BEGIN:VTIMEZONE
TZID:America/New_York
BEGIN:DAYLIGHT
TZOFFSETFROM:-0500
TZOFFSETTO:-0400
TZNAME:EDT
DTSTART:20250309T070000
END:DAYLIGHT
BEGIN:STANDARD
TZOFFSETFROM:-0400
TZOFFSETTO:-0500
TZNAME:EST
DTSTART:20251102T060000
END:STANDARD
BEGIN:DAYLIGHT
TZOFFSETFROM:-0500
TZOFFSETTO:-0400
TZNAME:EDT
DTSTART:20260308T070000
END:DAYLIGHT
BEGIN:STANDARD
TZOFFSETFROM:-0400
TZOFFSETTO:-0500
TZNAME:EST
DTSTART:20261101T060000
END:STANDARD
BEGIN:DAYLIGHT
TZOFFSETFROM:-0500
TZOFFSETTO:-0400
TZNAME:EDT
DTSTART:20270314T070000
END:DAYLIGHT
BEGIN:STANDARD
TZOFFSETFROM:-0400
TZOFFSETTO:-0500
TZNAME:EST
DTSTART:20271107T060000
END:STANDARD
END:VTIMEZONE
BEGIN:VEVENT
DTSTART;TZID=America/New_York:20260305T190000
DTEND;TZID=America/New_York:20260305T210000
DTSTAMP:20260425T212718
CREATED:20260302T152240Z
LAST-MODIFIED:20260302T153248Z
UID:68608-1772737200-1772744400@asifaeast.com
SUMMARY:Student Films II
DESCRIPTION:Join us for a virtual livestream of our many student film submissions. Since we got so many wonderful films in this category this year\, we need your help to pick which ones will be shown in person at the end of the month. These livestreams will be available to vote on for a few weeks after they debut\, so if you want to see every student work submitted to our fest\, please check them out!
URL:https://asifaeast.com/event/student-films-ii/
LOCATION:NY
CATEGORIES:ASIFA-East Festival
END:VEVENT
END:VCALENDAR